BEGIN:VCALENDAR
VERSION:2.0
PRODID:-//Advanced Intellect//aspNetEmail Calendar Writer(v4.0.0.57)//EN
METHOD:POST
BEGIN:VTIMEZONE
LAST-MODIFIED:20260421T014618Z
TZID:Central Standard Time
BEGIN:STANDARD
DTSTART:16010101T030000
TZOFFSETFROM:-0500
TZOFFSETTO:-0600
TZNAME:CST
RRULE:FREQ=YEARLY;BYMONTH=11;BYDAY=1SU
END:STANDARD
BEGIN:DAYLIGHT
DTSTART:16010101T020000
TZOFFSETFROM:-0600
TZOFFSETTO:-0500
TZNAME:CDT
RRULE:FREQ=YEARLY;BYMONTH=3;BYDAY=2SU
END:DAYLIGHT
END:VTIMEZONE
BEGIN:VEVENT
DTSTART;TZID="Central Standard Time":20260728T090000
DTEND;TZID="Central Standard Time":20260730T143000
UID:aa723ccf-0ecd-4c4b-b1e9-bd02e49991a9
CREATED:20260421T064618Z
DTSTAMP:20260421T064618Z
LAST-MODIFIED:20260421T064618Z
DESCRIPTION:The Course is a 3-day retreat at University designed
  to develop a deeper understanding of who God is\, who we are\,
  and what God might be calling us to do with our lives. During the
  sessions\, we follow a rhythm that involves teaching from Ben\,
  time for quiet reflection\, and time for small group discussion.
  
CLASS:PUBLIC
LOCATION:Central Building - C311 - Loft
PRIORITY:5
SUMMARY:The Course
TRANSP:OPAQUE
SEQUENCE:0
ORGANIZER;CN="Ruth Towers":MAILTO:RTowers@UniversitySATX.org
STATUS:NEEDS ACTION
BEGIN:VALARM
DESCRIPTION:The Course
ACTION:DISPLAY
TRIGGER:-PT30M
END:VALARM
END:VEVENT
END:VCALENDAR